BEGIN:VCALENDAR
VERSION:2.0
PRODID:-//The Kahala Luxury Hotel &amp; Resort - ECPv6.15.11//NONSGML v1.0//EN
CALSCALE:GREGORIAN
METHOD:PUBLISH
X-ORIGINAL-URL:https://www.kahalaresort.com
X-WR-CALDESC:Events for The Kahala Luxury Hotel &amp; Resort
REFRESH-INTERVAL;VALUE=DURATION:PT1H
X-Robots-Tag:noindex
X-PUBLISHED-TTL:PT1H
BEGIN:VTIMEZONE
TZID:Pacific/Honolulu
BEGIN:STANDARD
TZOFFSETFROM:-1000
TZOFFSETTO:-1000
TZNAME:HST
DTSTART:20250101T000000
END:STANDARD
END:VTIMEZONE
BEGIN:VEVENT
DTSTART;VALUE=DATE:20260905
DTEND;VALUE=DATE:20260906
DTSTAMP:20260420T185306
CREATED:20260416T220139Z
LAST-MODIFIED:20260416T220139Z
UID:10038329-1788566400-1788652799@www.kahalaresort.com
SUMMARY:SunRise and Strengthen
DESCRIPTION:
URL:https://www.kahalaresort.com/event/sunrise-and-strengthen/2026-09-05/
LOCATION:at CHI Fitness
CATEGORIES:ALL EVENTS,HEALTH & WELLBEING,SPECIAL EVENTS
ATTACH;FMTTYPE=image/jpeg:https://www.kahalaresort.com/wp-content/uploads/Fitness-Class2-resized.jpg
END:VEVENT
BEGIN:VEVENT
DTSTART;VALUE=DATE:20260906
DTEND;VALUE=DATE:20260907
DTSTAMP:20260420T185306
CREATED:20260324T203150Z
LAST-MODIFIED:20260403T191032Z
UID:10037895-1788652800-1788739199@www.kahalaresort.com
SUMMARY:The Kahala's Signature Sunday Brunch
DESCRIPTION:
URL:https://www.kahalaresort.com/event/the-kahalas-signature-sunday-brunch/2026-09-06/
LOCATION:at THE KAHALA HOTEL & RESORT
CATEGORIES:ALL EVENTS,DINING,SPECIAL EVENTS
ATTACH;FMTTYPE=image/jpeg:https://www.kahalaresort.com/wp-content/uploads/1677006226-Hokus_Brunch-144_desktop.jpg
END:VEVENT
BEGIN:VEVENT
DTSTART;VALUE=DATE:20260912
DTEND;VALUE=DATE:20260913
DTSTAMP:20260420T185306
CREATED:20260324T192737Z
LAST-MODIFIED:20260324T194202Z
UID:10037769-1789171200-1789257599@www.kahalaresort.com
SUMMARY:Classic Afternoon Tea
DESCRIPTION:
URL:https://www.kahalaresort.com/event/classic-afternoon-tea/2026-09-12/
LOCATION:at THE VERANDA
CATEGORIES:ALL EVENTS,DINING,SPECIAL EVENTS
ATTACH;FMTTYPE=image/jpeg:https://www.kahalaresort.com/wp-content/uploads/The-Kahala-2018-Hi-Res-282-1b.jpg
END:VEVENT
BEGIN:VEVENT
DTSTART;VALUE=DATE:20260912
DTEND;VALUE=DATE:20260913
DTSTAMP:20260420T185306
CREATED:20260416T220139Z
LAST-MODIFIED:20260416T220139Z
UID:10038330-1789171200-1789257599@www.kahalaresort.com
SUMMARY:SunRise and Strengthen
DESCRIPTION:
URL:https://www.kahalaresort.com/event/sunrise-and-strengthen/2026-09-12/
LOCATION:at CHI Fitness
CATEGORIES:ALL EVENTS,HEALTH & WELLBEING,SPECIAL EVENTS
ATTACH;FMTTYPE=image/jpeg:https://www.kahalaresort.com/wp-content/uploads/Fitness-Class2-resized.jpg
END:VEVENT
BEGIN:VEVENT
DTSTART;VALUE=DATE:20260913
DTEND;VALUE=DATE:20260914
DTSTAMP:20260420T185306
CREATED:20260324T203150Z
LAST-MODIFIED:20260403T191032Z
UID:10037896-1789257600-1789343999@www.kahalaresort.com
SUMMARY:The Kahala's Signature Sunday Brunch
DESCRIPTION:
URL:https://www.kahalaresort.com/event/the-kahalas-signature-sunday-brunch/2026-09-13/
LOCATION:at THE KAHALA HOTEL & RESORT
CATEGORIES:ALL EVENTS,DINING,SPECIAL EVENTS
ATTACH;FMTTYPE=image/jpeg:https://www.kahalaresort.com/wp-content/uploads/1677006226-Hokus_Brunch-144_desktop.jpg
END:VEVENT
BEGIN:VEVENT
DTSTART;VALUE=DATE:20260919
DTEND;VALUE=DATE:20260920
DTSTAMP:20260420T185306
CREATED:20260324T192737Z
LAST-MODIFIED:20260324T194202Z
UID:10037770-1789776000-1789862399@www.kahalaresort.com
SUMMARY:Classic Afternoon Tea
DESCRIPTION:
URL:https://www.kahalaresort.com/event/classic-afternoon-tea/2026-09-19/
LOCATION:at THE VERANDA
CATEGORIES:ALL EVENTS,DINING,SPECIAL EVENTS
ATTACH;FMTTYPE=image/jpeg:https://www.kahalaresort.com/wp-content/uploads/The-Kahala-2018-Hi-Res-282-1b.jpg
END:VEVENT
BEGIN:VEVENT
DTSTART;VALUE=DATE:20260919
DTEND;VALUE=DATE:20260920
DTSTAMP:20260420T185306
CREATED:20260416T220139Z
LAST-MODIFIED:20260416T220139Z
UID:10038331-1789776000-1789862399@www.kahalaresort.com
SUMMARY:SunRise and Strengthen
DESCRIPTION:
URL:https://www.kahalaresort.com/event/sunrise-and-strengthen/2026-09-19/
LOCATION:at CHI Fitness
CATEGORIES:ALL EVENTS,HEALTH & WELLBEING,SPECIAL EVENTS
ATTACH;FMTTYPE=image/jpeg:https://www.kahalaresort.com/wp-content/uploads/Fitness-Class2-resized.jpg
END:VEVENT
BEGIN:VEVENT
DTSTART;VALUE=DATE:20260920
DTEND;VALUE=DATE:20260921
DTSTAMP:20260420T185306
CREATED:20260324T203150Z
LAST-MODIFIED:20260403T191032Z
UID:10037897-1789862400-1789948799@www.kahalaresort.com
SUMMARY:The Kahala's Signature Sunday Brunch
DESCRIPTION:
URL:https://www.kahalaresort.com/event/the-kahalas-signature-sunday-brunch/2026-09-20/
LOCATION:at THE KAHALA HOTEL & RESORT
CATEGORIES:ALL EVENTS,DINING,SPECIAL EVENTS
ATTACH;FMTTYPE=image/jpeg:https://www.kahalaresort.com/wp-content/uploads/1677006226-Hokus_Brunch-144_desktop.jpg
END:VEVENT
BEGIN:VEVENT
DTSTART;VALUE=DATE:20260926
DTEND;VALUE=DATE:20260927
DTSTAMP:20260420T185306
CREATED:20260324T192737Z
LAST-MODIFIED:20260324T194202Z
UID:10037771-1790380800-1790467199@www.kahalaresort.com
SUMMARY:Classic Afternoon Tea
DESCRIPTION:
URL:https://www.kahalaresort.com/event/classic-afternoon-tea/2026-09-26/
LOCATION:at THE VERANDA
CATEGORIES:ALL EVENTS,DINING,SPECIAL EVENTS
ATTACH;FMTTYPE=image/jpeg:https://www.kahalaresort.com/wp-content/uploads/The-Kahala-2018-Hi-Res-282-1b.jpg
END:VEVENT
BEGIN:VEVENT
DTSTART;VALUE=DATE:20260926
DTEND;VALUE=DATE:20260927
DTSTAMP:20260420T185306
CREATED:20260416T220139Z
LAST-MODIFIED:20260416T220139Z
UID:10038332-1790380800-1790467199@www.kahalaresort.com
SUMMARY:SunRise and Strengthen
DESCRIPTION:
URL:https://www.kahalaresort.com/event/sunrise-and-strengthen/2026-09-26/
LOCATION:at CHI Fitness
CATEGORIES:ALL EVENTS,HEALTH & WELLBEING,SPECIAL EVENTS
ATTACH;FMTTYPE=image/jpeg:https://www.kahalaresort.com/wp-content/uploads/Fitness-Class2-resized.jpg
END:VEVENT
BEGIN:VEVENT
DTSTART;VALUE=DATE:20260927
DTEND;VALUE=DATE:20260928
DTSTAMP:20260420T185306
CREATED:20260324T203150Z
LAST-MODIFIED:20260403T191032Z
UID:10037898-1790467200-1790553599@www.kahalaresort.com
SUMMARY:The Kahala's Signature Sunday Brunch
DESCRIPTION:
URL:https://www.kahalaresort.com/event/the-kahalas-signature-sunday-brunch/2026-09-27/
LOCATION:at THE KAHALA HOTEL & RESORT
CATEGORIES:ALL EVENTS,DINING,SPECIAL EVENTS
ATTACH;FMTTYPE=image/jpeg:https://www.kahalaresort.com/wp-content/uploads/1677006226-Hokus_Brunch-144_desktop.jpg
END:VEVENT
BEGIN:VEVENT
DTSTART;VALUE=DATE:20261003
DTEND;VALUE=DATE:20261004
DTSTAMP:20260420T185306
CREATED:20260324T192737Z
LAST-MODIFIED:20260324T194202Z
UID:10037772-1790985600-1791071999@www.kahalaresort.com
SUMMARY:Classic Afternoon Tea
DESCRIPTION:
URL:https://www.kahalaresort.com/event/classic-afternoon-tea/2026-10-03/
LOCATION:at THE VERANDA
CATEGORIES:ALL EVENTS,DINING,SPECIAL EVENTS
ATTACH;FMTTYPE=image/jpeg:https://www.kahalaresort.com/wp-content/uploads/The-Kahala-2018-Hi-Res-282-1b.jpg
END:VEVENT
BEGIN:VEVENT
DTSTART;VALUE=DATE:20261003
DTEND;VALUE=DATE:20261004
DTSTAMP:20260420T185306
CREATED:20260416T220139Z
LAST-MODIFIED:20260416T220139Z
UID:10038333-1790985600-1791071999@www.kahalaresort.com
SUMMARY:SunRise and Strengthen
DESCRIPTION:
URL:https://www.kahalaresort.com/event/sunrise-and-strengthen/2026-10-03/
LOCATION:at CHI Fitness
CATEGORIES:ALL EVENTS,HEALTH & WELLBEING,SPECIAL EVENTS
ATTACH;FMTTYPE=image/jpeg:https://www.kahalaresort.com/wp-content/uploads/Fitness-Class2-resized.jpg
END:VEVENT
BEGIN:VEVENT
DTSTART;VALUE=DATE:20261004
DTEND;VALUE=DATE:20261005
DTSTAMP:20260420T185306
CREATED:20260324T203150Z
LAST-MODIFIED:20260403T191032Z
UID:10037899-1791072000-1791158399@www.kahalaresort.com
SUMMARY:The Kahala's Signature Sunday Brunch
DESCRIPTION:
URL:https://www.kahalaresort.com/event/the-kahalas-signature-sunday-brunch/2026-10-04/
LOCATION:at THE KAHALA HOTEL & RESORT
CATEGORIES:ALL EVENTS,DINING,SPECIAL EVENTS
ATTACH;FMTTYPE=image/jpeg:https://www.kahalaresort.com/wp-content/uploads/1677006226-Hokus_Brunch-144_desktop.jpg
END:VEVENT
BEGIN:VEVENT
DTSTART;VALUE=DATE:20261010
DTEND;VALUE=DATE:20261011
DTSTAMP:20260420T185306
CREATED:20260324T192737Z
LAST-MODIFIED:20260324T194202Z
UID:10037773-1791590400-1791676799@www.kahalaresort.com
SUMMARY:Classic Afternoon Tea
DESCRIPTION:
URL:https://www.kahalaresort.com/event/classic-afternoon-tea/2026-10-10/
LOCATION:at THE VERANDA
CATEGORIES:ALL EVENTS,DINING,SPECIAL EVENTS
ATTACH;FMTTYPE=image/jpeg:https://www.kahalaresort.com/wp-content/uploads/The-Kahala-2018-Hi-Res-282-1b.jpg
END:VEVENT
BEGIN:VEVENT
DTSTART;VALUE=DATE:20261010
DTEND;VALUE=DATE:20261011
DTSTAMP:20260420T185306
CREATED:20260416T220139Z
LAST-MODIFIED:20260416T220139Z
UID:10038334-1791590400-1791676799@www.kahalaresort.com
SUMMARY:SunRise and Strengthen
DESCRIPTION:
URL:https://www.kahalaresort.com/event/sunrise-and-strengthen/2026-10-10/
LOCATION:at CHI Fitness
CATEGORIES:ALL EVENTS,HEALTH & WELLBEING,SPECIAL EVENTS
ATTACH;FMTTYPE=image/jpeg:https://www.kahalaresort.com/wp-content/uploads/Fitness-Class2-resized.jpg
END:VEVENT
BEGIN:VEVENT
DTSTART;VALUE=DATE:20261011
DTEND;VALUE=DATE:20261012
DTSTAMP:20260420T185306
CREATED:20260324T203150Z
LAST-MODIFIED:20260403T191032Z
UID:10037900-1791676800-1791763199@www.kahalaresort.com
SUMMARY:The Kahala's Signature Sunday Brunch
DESCRIPTION:
URL:https://www.kahalaresort.com/event/the-kahalas-signature-sunday-brunch/2026-10-11/
LOCATION:at THE KAHALA HOTEL & RESORT
CATEGORIES:ALL EVENTS,DINING,SPECIAL EVENTS
ATTACH;FMTTYPE=image/jpeg:https://www.kahalaresort.com/wp-content/uploads/1677006226-Hokus_Brunch-144_desktop.jpg
END:VEVENT
BEGIN:VEVENT
DTSTART;VALUE=DATE:20261017
DTEND;VALUE=DATE:20261018
DTSTAMP:20260420T185306
CREATED:20260324T192737Z
LAST-MODIFIED:20260324T194202Z
UID:10037774-1792195200-1792281599@www.kahalaresort.com
SUMMARY:Classic Afternoon Tea
DESCRIPTION:
URL:https://www.kahalaresort.com/event/classic-afternoon-tea/2026-10-17/
LOCATION:at THE VERANDA
CATEGORIES:ALL EVENTS,DINING,SPECIAL EVENTS
ATTACH;FMTTYPE=image/jpeg:https://www.kahalaresort.com/wp-content/uploads/The-Kahala-2018-Hi-Res-282-1b.jpg
END:VEVENT
BEGIN:VEVENT
DTSTART;VALUE=DATE:20261017
DTEND;VALUE=DATE:20261018
DTSTAMP:20260420T185306
CREATED:20260416T220139Z
LAST-MODIFIED:20260416T220139Z
UID:10038335-1792195200-1792281599@www.kahalaresort.com
SUMMARY:SunRise and Strengthen
DESCRIPTION:
URL:https://www.kahalaresort.com/event/sunrise-and-strengthen/2026-10-17/
LOCATION:at CHI Fitness
CATEGORIES:ALL EVENTS,HEALTH & WELLBEING,SPECIAL EVENTS
ATTACH;FMTTYPE=image/jpeg:https://www.kahalaresort.com/wp-content/uploads/Fitness-Class2-resized.jpg
END:VEVENT
BEGIN:VEVENT
DTSTART;VALUE=DATE:20261018
DTEND;VALUE=DATE:20261019
DTSTAMP:20260420T185306
CREATED:20260324T203150Z
LAST-MODIFIED:20260403T191032Z
UID:10037901-1792281600-1792367999@www.kahalaresort.com
SUMMARY:The Kahala's Signature Sunday Brunch
DESCRIPTION:
URL:https://www.kahalaresort.com/event/the-kahalas-signature-sunday-brunch/2026-10-18/
LOCATION:at THE KAHALA HOTEL & RESORT
CATEGORIES:ALL EVENTS,DINING,SPECIAL EVENTS
ATTACH;FMTTYPE=image/jpeg:https://www.kahalaresort.com/wp-content/uploads/1677006226-Hokus_Brunch-144_desktop.jpg
END:VEVENT
BEGIN:VEVENT
DTSTART;VALUE=DATE:20261024
DTEND;VALUE=DATE:20261025
DTSTAMP:20260420T185306
CREATED:20260324T192737Z
LAST-MODIFIED:20260324T194202Z
UID:10037775-1792800000-1792886399@www.kahalaresort.com
SUMMARY:Classic Afternoon Tea
DESCRIPTION:
URL:https://www.kahalaresort.com/event/classic-afternoon-tea/2026-10-24/
LOCATION:at THE VERANDA
CATEGORIES:ALL EVENTS,DINING,SPECIAL EVENTS
ATTACH;FMTTYPE=image/jpeg:https://www.kahalaresort.com/wp-content/uploads/The-Kahala-2018-Hi-Res-282-1b.jpg
END:VEVENT
BEGIN:VEVENT
DTSTART;VALUE=DATE:20261024
DTEND;VALUE=DATE:20261025
DTSTAMP:20260420T185306
CREATED:20260416T220139Z
LAST-MODIFIED:20260416T220139Z
UID:10038336-1792800000-1792886399@www.kahalaresort.com
SUMMARY:SunRise and Strengthen
DESCRIPTION:
URL:https://www.kahalaresort.com/event/sunrise-and-strengthen/2026-10-24/
LOCATION:at CHI Fitness
CATEGORIES:ALL EVENTS,HEALTH & WELLBEING,SPECIAL EVENTS
ATTACH;FMTTYPE=image/jpeg:https://www.kahalaresort.com/wp-content/uploads/Fitness-Class2-resized.jpg
END:VEVENT
BEGIN:VEVENT
DTSTART;VALUE=DATE:20261025
DTEND;VALUE=DATE:20261026
DTSTAMP:20260420T185306
CREATED:20260324T203150Z
LAST-MODIFIED:20260403T191032Z
UID:10037902-1792886400-1792972799@www.kahalaresort.com
SUMMARY:The Kahala's Signature Sunday Brunch
DESCRIPTION:
URL:https://www.kahalaresort.com/event/the-kahalas-signature-sunday-brunch/2026-10-25/
LOCATION:at THE KAHALA HOTEL & RESORT
CATEGORIES:ALL EVENTS,DINING,SPECIAL EVENTS
ATTACH;FMTTYPE=image/jpeg:https://www.kahalaresort.com/wp-content/uploads/1677006226-Hokus_Brunch-144_desktop.jpg
END:VEVENT
BEGIN:VEVENT
DTSTART;VALUE=DATE:20261031
DTEND;VALUE=DATE:20261101
DTSTAMP:20260420T185306
CREATED:20260324T192737Z
LAST-MODIFIED:20260324T194202Z
UID:10037776-1793404800-1793491199@www.kahalaresort.com
SUMMARY:Classic Afternoon Tea
DESCRIPTION:
URL:https://www.kahalaresort.com/event/classic-afternoon-tea/2026-10-31/
LOCATION:at THE VERANDA
CATEGORIES:ALL EVENTS,DINING,SPECIAL EVENTS
ATTACH;FMTTYPE=image/jpeg:https://www.kahalaresort.com/wp-content/uploads/The-Kahala-2018-Hi-Res-282-1b.jpg
END:VEVENT
BEGIN:VEVENT
DTSTART;VALUE=DATE:20261031
DTEND;VALUE=DATE:20261101
DTSTAMP:20260420T185306
CREATED:20260416T220139Z
LAST-MODIFIED:20260416T220139Z
UID:10038337-1793404800-1793491199@www.kahalaresort.com
SUMMARY:SunRise and Strengthen
DESCRIPTION:
URL:https://www.kahalaresort.com/event/sunrise-and-strengthen/2026-10-31/
LOCATION:at CHI Fitness
CATEGORIES:ALL EVENTS,HEALTH & WELLBEING,SPECIAL EVENTS
ATTACH;FMTTYPE=image/jpeg:https://www.kahalaresort.com/wp-content/uploads/Fitness-Class2-resized.jpg
END:VEVENT
BEGIN:VEVENT
DTSTART;VALUE=DATE:20261101
DTEND;VALUE=DATE:20261102
DTSTAMP:20260420T185306
CREATED:20260324T203150Z
LAST-MODIFIED:20260403T191032Z
UID:10037903-1793491200-1793577599@www.kahalaresort.com
SUMMARY:The Kahala's Signature Sunday Brunch
DESCRIPTION:
URL:https://www.kahalaresort.com/event/the-kahalas-signature-sunday-brunch/2026-11-01/
LOCATION:at THE KAHALA HOTEL & RESORT
CATEGORIES:ALL EVENTS,DINING,SPECIAL EVENTS
ATTACH;FMTTYPE=image/jpeg:https://www.kahalaresort.com/wp-content/uploads/1677006226-Hokus_Brunch-144_desktop.jpg
END:VEVENT
BEGIN:VEVENT
DTSTART;VALUE=DATE:20261107
DTEND;VALUE=DATE:20261108
DTSTAMP:20260420T185306
CREATED:20260324T192737Z
LAST-MODIFIED:20260324T194202Z
UID:10037777-1794009600-1794095999@www.kahalaresort.com
SUMMARY:Classic Afternoon Tea
DESCRIPTION:
URL:https://www.kahalaresort.com/event/classic-afternoon-tea/2026-11-07/
LOCATION:at THE VERANDA
CATEGORIES:ALL EVENTS,DINING,SPECIAL EVENTS
ATTACH;FMTTYPE=image/jpeg:https://www.kahalaresort.com/wp-content/uploads/The-Kahala-2018-Hi-Res-282-1b.jpg
END:VEVENT
BEGIN:VEVENT
DTSTART;VALUE=DATE:20261107
DTEND;VALUE=DATE:20261108
DTSTAMP:20260420T185306
CREATED:20260416T220139Z
LAST-MODIFIED:20260416T220139Z
UID:10038338-1794009600-1794095999@www.kahalaresort.com
SUMMARY:SunRise and Strengthen
DESCRIPTION:
URL:https://www.kahalaresort.com/event/sunrise-and-strengthen/2026-11-07/
LOCATION:at CHI Fitness
CATEGORIES:ALL EVENTS,HEALTH & WELLBEING,SPECIAL EVENTS
ATTACH;FMTTYPE=image/jpeg:https://www.kahalaresort.com/wp-content/uploads/Fitness-Class2-resized.jpg
END:VEVENT
BEGIN:VEVENT
DTSTART;VALUE=DATE:20261108
DTEND;VALUE=DATE:20261109
DTSTAMP:20260420T185306
CREATED:20260324T203150Z
LAST-MODIFIED:20260403T191032Z
UID:10037904-1794096000-1794182399@www.kahalaresort.com
SUMMARY:The Kahala's Signature Sunday Brunch
DESCRIPTION:
URL:https://www.kahalaresort.com/event/the-kahalas-signature-sunday-brunch/2026-11-08/
LOCATION:at THE KAHALA HOTEL & RESORT
CATEGORIES:ALL EVENTS,DINING,SPECIAL EVENTS
ATTACH;FMTTYPE=image/jpeg:https://www.kahalaresort.com/wp-content/uploads/1677006226-Hokus_Brunch-144_desktop.jpg
END:VEVENT
BEGIN:VEVENT
DTSTART;VALUE=DATE:20261114
DTEND;VALUE=DATE:20261115
DTSTAMP:20260420T185306
CREATED:20260324T192737Z
LAST-MODIFIED:20260324T194202Z
UID:10037778-1794614400-1794700799@www.kahalaresort.com
SUMMARY:Classic Afternoon Tea
DESCRIPTION:
URL:https://www.kahalaresort.com/event/classic-afternoon-tea/2026-11-14/
LOCATION:at THE VERANDA
CATEGORIES:ALL EVENTS,DINING,SPECIAL EVENTS
ATTACH;FMTTYPE=image/jpeg:https://www.kahalaresort.com/wp-content/uploads/The-Kahala-2018-Hi-Res-282-1b.jpg
END:VEVENT
END:VCALENDAR