BEGIN:VCALENDAR
VERSION:2.0
PRODID:-//The Kahala Luxury Hotel &amp; Resort - ECPv6.15.11//NONSGML v1.0//EN
CALSCALE:GREGORIAN
METHOD:PUBLISH
X-ORIGINAL-URL:https://www.kahalaresort.com
X-WR-CALDESC:Events for The Kahala Luxury Hotel &amp; Resort
REFRESH-INTERVAL;VALUE=DURATION:PT1H
X-Robots-Tag:noindex
X-PUBLISHED-TTL:PT1H
BEGIN:VTIMEZONE
TZID:Pacific/Honolulu
BEGIN:STANDARD
TZOFFSETFROM:-1000
TZOFFSETTO:-1000
TZNAME:HST
DTSTART:20260101T000000
END:STANDARD
END:VTIMEZONE
BEGIN:VEVENT
DTSTART;VALUE=DATE:20270222
DTEND;VALUE=DATE:20270223
DTSTAMP:20260424T103457
CREATED:20260402T142939Z
LAST-MODIFIED:20260403T171252Z
UID:10038007-1803254400-1803340799@www.kahalaresort.com
SUMMARY:Pia Power Hours
DESCRIPTION:
URL:https://www.kahalaresort.com/event/pia-power-hours/2027-02-22/
CATEGORIES:ALL EVENTS,DINING,KISCA
ATTACH;FMTTYPE=image/jpeg:https://www.kahalaresort.com/wp-content/uploads/pia-valley.jpg
END:VEVENT
END:VCALENDAR